BEGIN:VCALENDAR
VERSION:2.0
PRODID:-//CultuurLocaal - ECPv6.15.20//NONSGML v1.0//EN
CALSCALE:GREGORIAN
METHOD:PUBLISH
X-WR-CALNAME:CultuurLocaal
X-ORIGINAL-URL:https://cultuurlocaal.nl
X-WR-CALDESC:Evenementen voor CultuurLocaal
REFRESH-INTERVAL;VALUE=DURATION:PT1H
X-Robots-Tag:noindex
X-PUBLISHED-TTL:PT1H
BEGIN:VTIMEZONE
TZID:Europe/Amsterdam
BEGIN:DAYLIGHT
TZOFFSETFROM:+0100
TZOFFSETTO:+0200
TZNAME:CEST
DTSTART:20250330T010000
END:DAYLIGHT
BEGIN:STANDARD
TZOFFSETFROM:+0200
TZOFFSETTO:+0100
TZNAME:CET
DTSTART:20251026T010000
END:STANDARD
BEGIN:DAYLIGHT
TZOFFSETFROM:+0100
TZOFFSETTO:+0200
TZNAME:CEST
DTSTART:20260329T010000
END:DAYLIGHT
BEGIN:STANDARD
TZOFFSETFROM:+0200
TZOFFSETTO:+0100
TZNAME:CET
DTSTART:20261025T010000
END:STANDARD
BEGIN:DAYLIGHT
TZOFFSETFROM:+0100
TZOFFSETTO:+0200
TZNAME:CEST
DTSTART:20270328T010000
END:DAYLIGHT
BEGIN:STANDARD
TZOFFSETFROM:+0200
TZOFFSETTO:+0100
TZNAME:CET
DTSTART:20271031T010000
END:STANDARD
END:VTIMEZONE
BEGIN:VEVENT
DTSTART;TZID=Europe/Amsterdam:20260520T193000
DTEND;TZID=Europe/Amsterdam:20260520T193000
DTSTAMP:20260425T142848
CREATED:20260214T155207Z
LAST-MODIFIED:20260215T090510Z
UID:8713-1779305400-1779305400@cultuurlocaal.nl
SUMMARY:Voorspeelavond Pop
DESCRIPTION:Voorspeelavond van leerlingen van verschillende docenten met als thema: Popmuziek. \n  \nToegang is gratis.
URL:https://cultuurlocaal.nl/evenement/voorspeelavond-pop/
LOCATION:De Baerne\, Buitenlandse Baan 1\, Barendrecht\, 2991 GA\, Netherlands
ATTACH;FMTTYPE=image/png:https://cultuurlocaal.nl/wp-content/uploads/2026/02/Poster-Algemene-Voorspeelavonden-voorjaar-2026-voor-de-website-e1771146179123.png
END:VEVENT
BEGIN:VEVENT
DTSTART;TZID=Europe/Amsterdam:20260529T000000
DTEND;TZID=Europe/Amsterdam:20260529T000000
DTSTAMP:20260425T142848
CREATED:20260302T160221Z
LAST-MODIFIED:20260303T160633Z
UID:8767-1780012800-1780012800@cultuurlocaal.nl
SUMMARY:Kindervoorstelling voor basisscholen
DESCRIPTION:Leerlingen van De Tweemaster en De Rank worden getrakteerd op een leuke voorstelling. Leonieke de Kleer en Nathalie van Egmond nemen de kinderen mee op reis naar een Klein Stationnetje\, waar de Syncopated Clock de tijd aangeeft en waar koffers verschijnen. Wat zou daar allemaal in zitten? Natuurlijk kunnen de kinderen lekker mee doen met alle liedjes en verhalen. Een klein combo begeleidt de voorstelling muzikaal. \n  \nDeze voorstelling is niet toegankelijk voor publiek.
URL:https://cultuurlocaal.nl/evenement/kindervoorstelling-voor-basisscholen/
LOCATION:De Baerne\, Buitenlandse Baan 1\, Barendrecht\, 2991 GA\, Netherlands
ATTACH;FMTTYPE=image/jpeg:https://cultuurlocaal.nl/wp-content/uploads/2026/01/Foto-1-Persbericht-19-januari-2026-1.jpg
END:VEVENT
BEGIN:VEVENT
DTSTART;TZID=Europe/Amsterdam:20260601T193000
DTEND;TZID=Europe/Amsterdam:20260601T193000
DTSTAMP:20260425T142848
CREATED:20260214T153839Z
LAST-MODIFIED:20260215T091111Z
UID:8707-1780342200-1780342200@cultuurlocaal.nl
SUMMARY:Voorspeelavond Filmmuziek
DESCRIPTION:Voorspeelavond van leerlingen van verschillende docenten met als thema: Filmmuziek. \n  \nToegang is gratis.
URL:https://cultuurlocaal.nl/evenement/voorspeelavond-filmmuziek/
LOCATION:De Baerne\, Buitenlandse Baan 1\, Barendrecht\, 2991 GA\, Netherlands
ATTACH;FMTTYPE=image/png:https://cultuurlocaal.nl/wp-content/uploads/2026/02/Poster-Algemene-Voorspeelavonden-voorjaar-2026-voor-de-website-e1771146179123.png
END:VEVENT
BEGIN:VEVENT
DTSTART;TZID=Europe/Amsterdam:20260602T103000
DTEND;TZID=Europe/Amsterdam:20260602T103000
DTSTAMP:20260425T142848
CREATED:20260404T140243Z
LAST-MODIFIED:20260404T140440Z
UID:8814-1780396200-1780396200@cultuurlocaal.nl
SUMMARY:Lenteconcert BaerneKoor
DESCRIPTION:Het jaarlijkse voorjaarsconcert van het BaerneKoor. Nadere info volgt.
URL:https://cultuurlocaal.nl/evenement/lenteconcert-baernekoor-3/
LOCATION:De Baerne\, Buitenlandse Baan 1\, Barendrecht\, 2991 GA\, Netherlands
ATTACH;FMTTYPE=image/jpeg:https://cultuurlocaal.nl/wp-content/uploads/2025/05/Baernekoor-foto-26-3-2024-1.jpg
END:VEVENT
BEGIN:VEVENT
DTSTART;TZID=Europe/Amsterdam:20260610T193000
DTEND;TZID=Europe/Amsterdam:20260610T193000
DTSTAMP:20260425T142848
CREATED:20260214T153938Z
LAST-MODIFIED:20260215T090418Z
UID:8709-1781119800-1781119800@cultuurlocaal.nl
SUMMARY:Voorspeelavond Licht Klassiek
DESCRIPTION:Voorspeelavond van leerlingen van verschillende docenten met als thema: Licht klassiek. \n  \nToegang is gratis.
URL:https://cultuurlocaal.nl/evenement/voorspeelavond-licht-klassiek/
LOCATION:De Baerne\, Buitenlandse Baan 1\, Barendrecht\, 2991 GA\, Netherlands
ATTACH;FMTTYPE=image/png:https://cultuurlocaal.nl/wp-content/uploads/2026/02/Poster-Algemene-Voorspeelavonden-voorjaar-2026-voor-de-website-e1771146179123.png
END:VEVENT
BEGIN:VEVENT
DTSTART;TZID=Europe/Amsterdam:20260619T193000
DTEND;TZID=Europe/Amsterdam:20260619T193000
DTSTAMP:20260425T142848
CREATED:20260214T155339Z
LAST-MODIFIED:20260215T090900Z
UID:8715-1781897400-1781897400@cultuurlocaal.nl
SUMMARY:Voorspeelavond Einaudi
DESCRIPTION:Voorspeelavond van leerlingen van verschillende docenten met als thema: Einaudi. \n  \nToegang is gratis.
URL:https://cultuurlocaal.nl/evenement/voorspeelavond-einaudi/
LOCATION:De Baerne\, Buitenlandse Baan 1\, Barendrecht\, 2991 GA\, Netherlands
ATTACH;FMTTYPE=image/png:https://cultuurlocaal.nl/wp-content/uploads/2026/02/Poster-Algemene-Voorspeelavonden-voorjaar-2026-voor-de-website-e1771146179123.png
END:VEVENT
BEGIN:VEVENT
DTSTART;TZID=Europe/Amsterdam:20260625T090000
DTEND;TZID=Europe/Amsterdam:20260625T120000
DTSTAMP:20260425T142848
CREATED:20260214T162539Z
LAST-MODIFIED:20260214T162539Z
UID:8728-1782378000-1782388800@cultuurlocaal.nl
SUMMARY:MMidK Presentatie SO De Rank
DESCRIPTION:Ieder jaar verzorgt CultuurLocaal op verschillende basisscholen muziekprojecten onder de noemer Méér Muziek in de Klas (MMidK). In het kader van gelijke kansen komen alle kinderen op die scholen actief in aanraking met muziekinstrumenten. Om dit mogelijk te maken krijgen de scholen subsidie uit de regeling Cultuur met Kwaliteit (CMK). De afgelopen weken zijn de kinderen van SO De Rank aan de slag gegaan. De docenten van CultuurLocaal hebben in alle groepen lesgegeven op verschillende instrumenten. \nOp 25 juni geven de kinderen een eindpresentatie voor ouders en verdere familie. \nDeze ochtend is niet toegankelijk voor publiek.
URL:https://cultuurlocaal.nl/evenement/mmidk-presentatie-so-de-rank/
ATTACH;FMTTYPE=image/png:https://cultuurlocaal.nl/wp-content/uploads/2024/12/mmik-logo-color.png
END:VEVENT
BEGIN:VEVENT
DTSTART;TZID=Europe/Amsterdam:20260625T193000
DTEND;TZID=Europe/Amsterdam:20260625T193000
DTSTAMP:20260425T142848
CREATED:20260214T155531Z
LAST-MODIFIED:20260215T090319Z
UID:8717-1782415800-1782415800@cultuurlocaal.nl
SUMMARY:Voorspeelavond: speel samen met je familie
DESCRIPTION:Voorspeelavond van leerlingen met hun familie! \n  \nToegang is gratis.
URL:https://cultuurlocaal.nl/evenement/voorspeelavond-speel-samen-met-je-familie/
LOCATION:De Baerne\, Buitenlandse Baan 1\, Barendrecht\, 2991 GA\, Netherlands
ATTACH;FMTTYPE=image/png:https://cultuurlocaal.nl/wp-content/uploads/2026/02/Poster-Algemene-Voorspeelavonden-voorjaar-2026-voor-de-website-e1771146179123.png
END:VEVENT
BEGIN:VEVENT
DTSTART;VALUE=DATE:20260825
DTEND;VALUE=DATE:20260827
DTSTAMP:20260425T142848
CREATED:20260423T073123Z
LAST-MODIFIED:20260423T073909Z
UID:8819-1787616000-1787788799@cultuurlocaal.nl
SUMMARY:Zomermuziekcarrousel 2026
DESCRIPTION:In de laatste week van de zomervakantie kunnen kinderen van 6 tot 12 jaar weer terecht bij CultuurLocaal voor een leuke muziekmiddag. \nIn één middag maak je kennis met zes verschillende instrumenten* en leer je al een eenvoudig stukje spelen. Aan het eind van de dag speel je met alle andere kinderen samen als een heus orkest. \nJe kan je inschrijven voor één van de twee dagen. Het programma duurt van 12:30 tot ongeveer 16:30 uur. \nOp dinsdag 25 augustus speel je: drums\, dwarsfluit\, gitaar\, keyboard\, klarinet en viool \nOp woensdag 26 augustus speel je: drums\, gitaar\, keyboard\, klarinet\, koper en viool
URL:https://cultuurlocaal.nl/evenement/zomermuziekcarrousel-2026/
LOCATION:De Baerne\, Buitenlandse Baan 1\, Barendrecht\, 2991 GA\, Netherlands
ATTACH;FMTTYPE=image/png:https://cultuurlocaal.nl/wp-content/uploads/2026/04/Websiteversie-Zomermuziekcarrousel-2026-e1776870646167.png
END:VEVENT
END:VCALENDAR